Package: methylPipe Version: 1.44.0 Command: /Library/Frameworks/R.framework/Resources/bin/R CMD INSTALL methylPipe StartedAt: 2025-11-03 15:47:24 -0500 (Mon, 03 Nov 2025) EndedAt: 2025-11-03 15:48:41 -0500 (Mon, 03 Nov 2025) EllapsedTime: 76.6 seconds RetCode: 0 Status: OK