Package: methylPipe Version: 1.44.0 Command: /Library/Frameworks/R.framework/Resources/bin/R CMD build --keep-empty-dirs --no-resave-data methylPipe StartedAt: 2025-11-03 17:42:09 -0500 (Mon, 03 Nov 2025) EndedAt: 2025-11-03 17:45:05 -0500 (Mon, 03 Nov 2025) EllapsedTime: 175.6 seconds RetCode: 0 Status: OK PackageFile: methylPipe_1.44.0.tar.gz PackageFileSize: 791.7 KiB