Package: methylPipe Version: 1.42.1 Command: /home/biocbuild/R/R/bin/R CMD INSTALL methylPipe StartedAt: 2025-10-13 21:03:15 -0000 (Mon, 13 Oct 2025) EndedAt: 2025-10-13 21:04:32 -0000 (Mon, 13 Oct 2025) EllapsedTime: 77.2 seconds RetCode: 0 Status: OK