Package: methylPipe Version: 1.42.1 Command: /home/biocbuild/R/R/bin/R CMD build --keep-empty-dirs --no-resave-data methylPipe StartedAt: 2025-10-14 02:22:50 -0000 (Tue, 14 Oct 2025) EndedAt: 2025-10-14 02:26:19 -0000 (Tue, 14 Oct 2025) EllapsedTime: 209.0 seconds RetCode: 0 Status: OK PackageFile: methylPipe_1.42.1.tar.gz PackageFileSize: 786.4 KiB