Package: methylMnM Version: 1.48.0 Command: /home/biocbuild/bbs-3.22-bioc/R/bin/R CMD build --keep-empty-dirs --no-resave-data --md5 methylMnM StartedAt: 2025-11-13 18:41:19 -0500 (Thu, 13 Nov 2025) EndedAt: 2025-11-13 18:42:24 -0500 (Thu, 13 Nov 2025) EllapsedTime: 65.0 seconds RetCode: 0 Status: OK PackageFile: methylMnM_1.48.0.tar.gz PackageFileSize: 8.512 MiB