Package: methylMnM Version: 1.48.0 Command: /Library/Frameworks/R.framework/Resources/bin/R CMD INSTALL methylMnM StartedAt: 2025-11-10 15:01:57 -0500 (Mon, 10 Nov 2025) EndedAt: 2025-11-10 15:02:02 -0500 (Mon, 10 Nov 2025) EllapsedTime: 5.1 seconds RetCode: 0 Status: OK