Package: methylMnM Version: 1.48.0 Command: /Library/Frameworks/R.framework/Resources/bin/R CMD build --keep-empty-dirs --no-resave-data methylMnM StartedAt: 2025-11-10 16:59:32 -0500 (Mon, 10 Nov 2025) EndedAt: 2025-11-10 17:00:08 -0500 (Mon, 10 Nov 2025) EllapsedTime: 35.4 seconds RetCode: 0 Status: OK PackageFile: methylMnM_1.48.0.tar.gz PackageFileSize: 8.51 MiB