Package: methylKit Version: 1.36.0 Command: /home/biocbuild/bbs-3.22-bioc/R/bin/R CMD check --install=check:methylKit.install-out.txt --library=/home/biocbuild/bbs-3.22-bioc/R/site-library --timings methylKit_1.36.0.tar.gz StartedAt: 2025-11-14 01:27:50 -0500 (Fri, 14 Nov 2025) EndedAt: 2025-11-14 01:34:38 -0500 (Fri, 14 Nov 2025) EllapsedTime: 407.4 seconds RetCode: 0 Status: OK CheckDir: methylKit.Rcheck Warnings: 0