Package: methylKit Version: 1.36.0 Command: /home/biocbuild/bbs-3.22-bioc/R/bin/R CMD build --keep-empty-dirs --no-resave-data --md5 methylKit StartedAt: 2025-11-11 18:42:52 -0500 (Tue, 11 Nov 2025) EndedAt: 2025-11-11 18:44:17 -0500 (Tue, 11 Nov 2025) EllapsedTime: 85.0 seconds RetCode: 0 Status: OK PackageFile: methylKit_1.36.0.tar.gz PackageFileSize: 1.347 MiB