Package: methylKit Version: 1.34.0 Command: /home/biocbuild/bbs-3.21-bioc/R/bin/R CMD INSTALL methylKit StartedAt: 2025-10-15 15:26:20 -0400 (Wed, 15 Oct 2025) EndedAt: 2025-10-15 15:27:19 -0400 (Wed, 15 Oct 2025) EllapsedTime: 59.7 seconds RetCode: 0 Status: OK