Package: methylKit Version: 1.34.0 Command: /home/biocbuild/bbs-3.21-bioc/R/bin/R CMD build --keep-empty-dirs --no-resave-data methylKit StartedAt: 2025-10-15 18:27:37 -0400 (Wed, 15 Oct 2025) EndedAt: 2025-10-15 18:29:04 -0400 (Wed, 15 Oct 2025) EllapsedTime: 86.1 seconds RetCode: 0 Status: OK PackageFile: methylKit_1.34.0.tar.gz PackageFileSize: 1.339 MiB