Package: methylKit Version: 1.34.0 Command: /home/biocbuild/R/R/bin/R CMD INSTALL methylKit StartedAt: 2025-09-25 20:41:58 -0000 (Thu, 25 Sep 2025) EndedAt: 2025-09-25 20:43:27 -0000 (Thu, 25 Sep 2025) EllapsedTime: 89.4 seconds RetCode: 0 Status: OK