Package: methylKit Version: 1.34.0 Command: rm -rf methylKit.buildbin-libdir && mkdir methylKit.buildbin-libdir && /Users/biocbuild/BBS/utils/build-universal.sh methylKit_1.34.0.tar.gz /Library/Frameworks/R.framework/Resources/bin/R methylKit.buildbin-libdir StartedAt: 2025-10-15 19:17:00 -0400 (Wed, 15 Oct 2025) EndedAt: 2025-10-15 19:18:13 -0400 (Wed, 15 Oct 2025) EllapsedTime: 73.2 seconds RetCode: 0 Status: OK PackageFile: methylKit_1.34.0.tgz PackageFileSize: 2.953 MiB