Package: methylKit Version: 1.36.0 Maintainer: Altuna Akalin , Alexander Blume MaintainerEmail: alex.gos90 at gmail.com git_url: https://git.bioconductor.org/packages/methylKit git_branch: RELEASE_3_22 git_last_commit: c65437a git_last_commit_date: 2025-10-29 10:33:14 -0400 (Wed, 29 Oct 2025)