Package: methylInheritance Version: 1.34.0 Command: /home/biocbuild/R/R/bin/R CMD check --install=check:methylInheritance.install-out.txt --library=/home/biocbuild/R/R/site-library --no-vignettes --timings methylInheritance_1.34.0.tar.gz StartedAt: 2025-11-14 11:24:20 -0000 (Fri, 14 Nov 2025) EndedAt: 2025-11-14 11:36:05 -0000 (Fri, 14 Nov 2025) EllapsedTime: 704.8 seconds RetCode: 0 Status: OK CheckDir: methylInheritance.Rcheck Warnings: 0