Package: methylInheritance Version: 1.34.0 Command: /home/biocbuild/R/R/bin/R CMD build --keep-empty-dirs --no-resave-data methylInheritance StartedAt: 2025-11-11 03:07:41 -0000 (Tue, 11 Nov 2025) EndedAt: 2025-11-11 03:09:33 -0000 (Tue, 11 Nov 2025) EllapsedTime: 112.0 seconds RetCode: 0 Status: OK PackageFile: methylInheritance_1.34.0.tar.gz PackageFileSize: 1.697 MiB