Package: methylInheritance Version: 1.34.0 Command: /home/biocbuild/bbs-3.22-bioc/R/bin/R CMD INSTALL methylInheritance StartedAt: 2025-11-11 15:32:33 -0500 (Tue, 11 Nov 2025) EndedAt: 2025-11-11 15:33:14 -0500 (Tue, 11 Nov 2025) EllapsedTime: 40.4 seconds RetCode: 0 Status: OK