Package: methylInheritance Version: 1.34.0 Command: /home/biocbuild/bbs-3.22-bioc/R/bin/R CMD check --install=check:methylInheritance.install-out.txt --library=/home/biocbuild/bbs-3.22-bioc/R/site-library --timings methylInheritance_1.34.0.tar.gz StartedAt: 2025-11-12 01:22:27 -0500 (Wed, 12 Nov 2025) EndedAt: 2025-11-12 01:31:51 -0500 (Wed, 12 Nov 2025) EllapsedTime: 563.5 seconds RetCode: 0 Status: OK CheckDir: methylInheritance.Rcheck Warnings: 0