Package: methylInheritance Version: 1.32.1 Command: /home/biocbuild/bbs-3.21-bioc/R/bin/R CMD check --install=check:methylInheritance.install-out.txt --library=/home/biocbuild/bbs-3.21-bioc/R/site-library --timings methylInheritance_1.32.1.tar.gz StartedAt: 2025-10-16 00:55:02 -0400 (Thu, 16 Oct 2025) EndedAt: 2025-10-16 01:04:36 -0400 (Thu, 16 Oct 2025) EllapsedTime: 573.7 seconds RetCode: 0 Status: OK CheckDir: methylInheritance.Rcheck Warnings: 0