Package: methylInheritance Version: 1.32.1 Command: /Library/Frameworks/R.framework/Resources/bin/R CMD INSTALL methylInheritance StartedAt: 2025-09-25 15:51:37 -0400 (Thu, 25 Sep 2025) EndedAt: 2025-09-25 15:52:55 -0400 (Thu, 25 Sep 2025) EllapsedTime: 78.3 seconds RetCode: 0 Status: OK