Package: methylInheritance Version: 1.32.1 Command: /home/biocbuild/R/R/bin/R CMD check --install=check:methylInheritance.install-out.txt --library=/home/biocbuild/R/R/site-library --no-vignettes --timings methylInheritance_1.32.1.tar.gz StartedAt: 2025-10-07 11:25:17 -0000 (Tue, 07 Oct 2025) EndedAt: 2025-10-07 11:38:04 -0000 (Tue, 07 Oct 2025) EllapsedTime: 766.9 seconds RetCode: 0 Status: OK CheckDir: methylInheritance.Rcheck Warnings: 0