Package: methylGSA Version: 1.28.0 Command: /home/biocbuild/bbs-3.22-bioc/R/bin/R CMD INSTALL methylGSA StartedAt: 2025-11-11 16:10:30 -0500 (Tue, 11 Nov 2025) EndedAt: 2025-11-11 16:11:16 -0500 (Tue, 11 Nov 2025) EllapsedTime: 46.1 seconds RetCode: 0 Status: OK