Package: methylGSA Version: 1.28.0 Command: /Library/Frameworks/R.framework/Resources/bin/R CMD INSTALL methylGSA StartedAt: 2025-10-30 15:34:25 -0400 (Thu, 30 Oct 2025) EndedAt: 2025-10-30 15:34:42 -0400 (Thu, 30 Oct 2025) EllapsedTime: 16.8 seconds RetCode: 0 Status: OK