Package: methylGSA Version: 1.28.0 Command: /Library/Frameworks/R.framework/Resources/bin/R CMD build --keep-empty-dirs --no-resave-data methylGSA StartedAt: 2025-10-29 23:22:42 -0400 (Wed, 29 Oct 2025) EndedAt: 2025-10-29 23:23:35 -0400 (Wed, 29 Oct 2025) EllapsedTime: 53.5 seconds RetCode: 0 Status: OK PackageFile: methylGSA_1.28.0.tar.gz PackageFileSize: 3.151 MiB