Package: methylCC Version: 1.22.0 Command: /home/biocbuild/R/R/bin/R CMD build --keep-empty-dirs --no-resave-data methylCC StartedAt: 2025-10-14 02:19:04 -0000 (Tue, 14 Oct 2025) EndedAt: 2025-10-14 02:23:43 -0000 (Tue, 14 Oct 2025) EllapsedTime: 279.1 seconds RetCode: 0 Status: OK PackageFile: methylCC_1.22.0.tar.gz PackageFileSize: 4.431 MiB