Package: methylCC Version: 1.24.0 Command: /Library/Frameworks/R.framework/Resources/bin/R CMD INSTALL methylCC StartedAt: 2025-11-10 15:24:05 -0500 (Mon, 10 Nov 2025) EndedAt: 2025-11-10 15:24:26 -0500 (Mon, 10 Nov 2025) EllapsedTime: 21.1 seconds RetCode: 0 Status: OK