Package: methylCC Version: 1.24.0 Command: rm -rf methylCC.buildbin-libdir && mkdir methylCC.buildbin-libdir && /Users/biocbuild/BBS/utils/build-universal.sh methylCC_1.24.0.tar.gz /Library/Frameworks/R.framework/Resources/bin/R methylCC.buildbin-libdir StartedAt: 2025-11-10 23:26:21 -0500 (Mon, 10 Nov 2025) EndedAt: 2025-11-10 23:26:43 -0500 (Mon, 10 Nov 2025) EllapsedTime: 22.4 seconds RetCode: 0 Status: OK PackageFile: methylCC_1.24.0.tgz PackageFileSize: 4.716 MiB