Package: methyLImp2 Version: 1.6.0 Command: /home/biocbuild/bbs-3.22-bioc/R/bin/R CMD INSTALL methyLImp2 StartedAt: 2025-11-11 15:35:37 -0500 (Tue, 11 Nov 2025) EndedAt: 2025-11-11 15:35:57 -0500 (Tue, 11 Nov 2025) EllapsedTime: 20.6 seconds RetCode: 0 Status: OK