Package: methyLImp2 Version: 1.6.0 Command: /Library/Frameworks/R.framework/Resources/bin/R CMD INSTALL methyLImp2 StartedAt: 2025-11-03 15:29:22 -0500 (Mon, 03 Nov 2025) EndedAt: 2025-11-03 15:29:49 -0500 (Mon, 03 Nov 2025) EllapsedTime: 27.1 seconds RetCode: 0 Status: OK