Package: methyLImp2 Version: 1.6.0 Command: /Library/Frameworks/R.framework/Resources/bin/R CMD build --keep-empty-dirs --no-resave-data methyLImp2 StartedAt: 2025-11-03 17:41:48 -0500 (Mon, 03 Nov 2025) EndedAt: 2025-11-03 17:42:45 -0500 (Mon, 03 Nov 2025) EllapsedTime: 56.9 seconds RetCode: 0 Status: OK PackageFile: methyLImp2_1.6.0.tar.gz PackageFileSize: 1.261 MiB