Package: methyLImp2 Version: 1.6.0 Command: rm -rf methyLImp2.buildbin-libdir && mkdir methyLImp2.buildbin-libdir && /Users/biocbuild/BBS/utils/build-universal.sh methyLImp2_1.6.0.tar.gz /Library/Frameworks/R.framework/Resources/bin/R methyLImp2.buildbin-libdir StartedAt: 2025-11-04 01:49:07 -0500 (Tue, 04 Nov 2025) EndedAt: 2025-11-04 01:49:40 -0500 (Tue, 04 Nov 2025) EllapsedTime: 32.3 seconds RetCode: 0 Status: OK PackageFile: methyLImp2_1.6.0.tgz PackageFileSize: 1.295 MiB