Package: methyLImp2 Version: 1.4.0 Command: /home/biocbuild/R/R/bin/R CMD INSTALL methyLImp2 StartedAt: 2025-10-13 20:46:10 -0000 (Mon, 13 Oct 2025) EndedAt: 2025-10-13 20:46:40 -0000 (Mon, 13 Oct 2025) EllapsedTime: 30.1 seconds RetCode: 0 Status: OK