Package: methyLImp2 Version: 1.4.0 Command: /home/biocbuild/R/R/bin/R CMD build --keep-empty-dirs --no-resave-data methyLImp2 StartedAt: 2025-10-14 02:20:23 -0000 (Tue, 14 Oct 2025) EndedAt: 2025-10-14 02:21:31 -0000 (Tue, 14 Oct 2025) EllapsedTime: 68.0 seconds RetCode: 0 Status: OK PackageFile: methyLImp2_1.4.0.tar.gz PackageFileSize: 1.285 MiB