Package: methyLImp2 Version: 1.4.0 Command: rm -rf methyLImp2.buildbin-libdir && mkdir methyLImp2.buildbin-libdir && /Users/biocbuild/BBS/utils/build-universal.sh methyLImp2_1.4.0.tar.gz /Library/Frameworks/R.framework/Resources/bin/R methyLImp2.buildbin-libdir StartedAt: 2025-04-21 22:41:38 -0400 (Mon, 21 Apr 2025) EndedAt: 2025-04-21 22:41:48 -0400 (Mon, 21 Apr 2025) EllapsedTime: 9.2 seconds RetCode: 0 Status: OK PackageFile: methyLImp2_1.4.0.tgz PackageFileSize: 1.295 MiB