Package: methrix Version: 1.24.0 Command: /home/biocbuild/R/R/bin/R CMD INSTALL methrix StartedAt: 2025-11-10 21:45:05 -0000 (Mon, 10 Nov 2025) EndedAt: 2025-11-10 21:46:02 -0000 (Mon, 10 Nov 2025) EllapsedTime: 57.2 seconds RetCode: 0 Status: OK