Package: methrix Version: 1.24.0 Command: /home/biocbuild/R/R/bin/R CMD build --keep-empty-dirs --no-resave-data methrix StartedAt: 2025-11-11 03:05:20 -0000 (Tue, 11 Nov 2025) EndedAt: 2025-11-11 03:09:33 -0000 (Tue, 11 Nov 2025) EllapsedTime: 253.1 seconds RetCode: 0 Status: OK PackageFile: methrix_1.24.0.tar.gz PackageFileSize: 3.904 MiB