Package: methrix Version: 1.24.0 Command: /home/biocbuild/bbs-3.22-bioc/R/bin/R CMD INSTALL methrix StartedAt: 2025-11-11 15:40:16 -0500 (Tue, 11 Nov 2025) EndedAt: 2025-11-11 15:40:58 -0500 (Tue, 11 Nov 2025) EllapsedTime: 42.4 seconds RetCode: 0 Status: OK