Package: methrix Version: 1.24.0 Command: /home/biocbuild/bbs-3.22-bioc/R/bin/R CMD check --install=check:methrix.install-out.txt --library=/home/biocbuild/bbs-3.22-bioc/R/site-library --timings methrix_1.24.0.tar.gz StartedAt: 2025-11-12 01:19:54 -0500 (Wed, 12 Nov 2025) EndedAt: 2025-11-12 01:28:35 -0500 (Wed, 12 Nov 2025) EllapsedTime: 521.4 seconds RetCode: 0 Status: OK CheckDir: methrix.Rcheck Warnings: 0