Package: methrix Version: 1.24.0 Command: /home/biocbuild/bbs-3.22-bioc/R/bin/R CMD build --keep-empty-dirs --no-resave-data --md5 methrix StartedAt: 2025-11-11 18:40:50 -0500 (Tue, 11 Nov 2025) EndedAt: 2025-11-11 18:44:26 -0500 (Tue, 11 Nov 2025) EllapsedTime: 216.1 seconds RetCode: 0 Status: OK PackageFile: methrix_1.24.0.tar.gz PackageFileSize: 3.996 MiB