Package: methrix Version: 1.22.1 Command: /Library/Frameworks/R.framework/Resources/bin/R CMD INSTALL methrix StartedAt: 2025-10-13 16:05:53 -0400 (Mon, 13 Oct 2025) EndedAt: 2025-10-13 16:07:18 -0400 (Mon, 13 Oct 2025) EllapsedTime: 85.0 seconds RetCode: 0 Status: OK