Package: methrix Version: 1.22.1 Command: /Library/Frameworks/R.framework/Resources/bin/R CMD build --keep-empty-dirs --no-resave-data methrix StartedAt: 2025-10-13 20:24:18 -0400 (Mon, 13 Oct 2025) EndedAt: 2025-10-13 20:31:00 -0400 (Mon, 13 Oct 2025) EllapsedTime: 402.3 seconds RetCode: 0 Status: OK PackageFile: methrix_1.22.1.tar.gz PackageFileSize: 4.077 MiB