Package: methrix Version: 1.22.1 Command: rm -rf methrix.buildbin-libdir && mkdir methrix.buildbin-libdir && /Users/biocbuild/BBS/utils/build-universal.sh methrix_1.22.1.tar.gz /Library/Frameworks/R.framework/Resources/bin/R methrix.buildbin-libdir StartedAt: 2025-10-14 13:59:43 -0400 (Tue, 14 Oct 2025) EndedAt: 2025-10-14 14:02:50 -0400 (Tue, 14 Oct 2025) EllapsedTime: 186.9 seconds RetCode: 0 Status: OK PackageFile: methrix_1.22.1.tgz PackageFileSize: 3.447 MiB