Package: methodical Version: 1.6.0 Command: /home/biocbuild/R/R/bin/R CMD INSTALL methodical StartedAt: 2025-11-13 21:48:48 -0000 (Thu, 13 Nov 2025) EndedAt: 2025-11-13 21:49:43 -0000 (Thu, 13 Nov 2025) EllapsedTime: 54.9 seconds RetCode: 0 Status: OK