Package: methodical Version: 1.6.0 Command: /home/biocbuild/R/R/bin/R CMD build --keep-empty-dirs --no-resave-data methodical StartedAt: 2025-11-14 03:08:28 -0000 (Fri, 14 Nov 2025) EndedAt: 2025-11-14 03:10:01 -0000 (Fri, 14 Nov 2025) EllapsedTime: 93.0 seconds RetCode: 1 Status: ERROR PackageFile: None PackageFileSize: NA