Package: methodical Version: 1.6.0 Command: /home/biocbuild/bbs-3.22-bioc/R/bin/R CMD check --install=check:methodical.install-out.txt --library=/home/biocbuild/bbs-3.22-bioc/R/site-library --timings methodical_1.6.0.tar.gz StartedAt: 2025-11-12 01:19:17 -0500 (Wed, 12 Nov 2025) EndedAt: 2025-11-12 01:42:31 -0500 (Wed, 12 Nov 2025) EllapsedTime: 1394.2 seconds RetCode: 0 Status: WARNINGS CheckDir: methodical.Rcheck Warnings: 2