Package: methodical Version: 1.6.0 Command: /home/biocbuild/bbs-3.22-bioc/R/bin/R CMD build --keep-empty-dirs --no-resave-data --md5 methodical StartedAt: 2025-11-11 18:40:01 -0500 (Tue, 11 Nov 2025) EndedAt: 2025-11-11 18:53:32 -0500 (Tue, 11 Nov 2025) EllapsedTime: 811.6 seconds RetCode: 0 Status: OK PackageFile: methodical_1.6.0.tar.gz PackageFileSize: 5.022 MiB