Package: methodical Version: 1.4.0 Command: /home/biocbuild/bbs-3.21-bioc/R/bin/R CMD INSTALL methodical StartedAt: 2025-10-01 15:45:13 -0400 (Wed, 01 Oct 2025) EndedAt: 2025-10-01 15:45:53 -0400 (Wed, 01 Oct 2025) EllapsedTime: 40.7 seconds RetCode: 0 Status: OK