Package: methodical Version: 1.4.0 Command: /home/biocbuild/bbs-3.21-bioc/R/bin/R CMD build --keep-empty-dirs --no-resave-data methodical StartedAt: 2025-09-28 18:38:28 -0400 (Sun, 28 Sep 2025) EndedAt: 2025-09-28 18:52:02 -0400 (Sun, 28 Sep 2025) EllapsedTime: 814.7 seconds RetCode: 0 Status: OK PackageFile: methodical_1.4.0.tar.gz PackageFileSize: 4.369 MiB