Package: methodical Version: 1.4.1 Command: /Library/Frameworks/R.framework/Resources/bin/R CMD build --keep-empty-dirs --no-resave-data methodical StartedAt: 2025-10-13 20:23:49 -0400 (Mon, 13 Oct 2025) EndedAt: 2025-10-13 20:54:36 -0400 (Mon, 13 Oct 2025) EllapsedTime: 1847.3 seconds RetCode: 0 Status: OK PackageFile: methodical_1.4.1.tar.gz PackageFileSize: 4.358 MiB