Package: methodical Version: 1.4.1 Command: rm -rf methodical.buildbin-libdir && mkdir methodical.buildbin-libdir && /Users/biocbuild/BBS/utils/build-universal.sh methodical_1.4.1.tar.gz /Library/Frameworks/R.framework/Resources/bin/R methodical.buildbin-libdir StartedAt: 2025-10-14 13:59:30 -0400 (Tue, 14 Oct 2025) EndedAt: 2025-10-14 14:02:09 -0400 (Tue, 14 Oct 2025) EllapsedTime: 159.0 seconds RetCode: 0 Status: OK PackageFile: methodical_1.4.1.tgz PackageFileSize: 4.518 MiB